BEGIN:VCALENDAR
VERSION:2.0
PRODID:-//CSI - ECPv6.15.20//NONSGML v1.0//EN
CALSCALE:GREGORIAN
METHOD:PUBLISH
X-ORIGINAL-URL:https://www.csiinc.com
X-WR-CALDESC:Events for CSI
REFRESH-INTERVAL;VALUE=DURATION:PT1H
X-Robots-Tag:noindex
X-PUBLISHED-TTL:PT1H
BEGIN:VTIMEZONE
TZID:Australia/Melbourne
BEGIN:STANDARD
TZOFFSETFROM:+1100
TZOFFSETTO:+1000
TZNAME:AEST
DTSTART:20240406T160000
END:STANDARD
BEGIN:DAYLIGHT
TZOFFSETFROM:+1000
TZOFFSETTO:+1100
TZNAME:AEDT
DTSTART:20241005T160000
END:DAYLIGHT
BEGIN:STANDARD
TZOFFSETFROM:+1100
TZOFFSETTO:+1000
TZNAME:AEST
DTSTART:20250405T160000
END:STANDARD
BEGIN:DAYLIGHT
TZOFFSETFROM:+1000
TZOFFSETTO:+1100
TZNAME:AEDT
DTSTART:20251004T160000
END:DAYLIGHT
BEGIN:STANDARD
TZOFFSETFROM:+1100
TZOFFSETTO:+1000
TZNAME:AEST
DTSTART:20260404T160000
END:STANDARD
BEGIN:DAYLIGHT
TZOFFSETFROM:+1000
TZOFFSETTO:+1100
TZNAME:AEDT
DTSTART:20261003T160000
END:DAYLIGHT
END:VTIMEZONE
BEGIN:VTIMEZONE
TZID:America/New_York
BEGIN:DAYLIGHT
TZOFFSETFROM:-0500
TZOFFSETTO:-0400
TZNAME:EDT
DTSTART:20240310T070000
END:DAYLIGHT
BEGIN:STANDARD
TZOFFSETFROM:-0400
TZOFFSETTO:-0500
TZNAME:EST
DTSTART:20241103T060000
END:STANDARD
BEGIN:DAYLIGHT
TZOFFSETFROM:-0500
TZOFFSETTO:-0400
TZNAME:EDT
DTSTART:20250309T070000
END:DAYLIGHT
BEGIN:STANDARD
TZOFFSETFROM:-0400
TZOFFSETTO:-0500
TZNAME:EST
DTSTART:20251102T060000
END:STANDARD
BEGIN:DAYLIGHT
TZOFFSETFROM:-0500
TZOFFSETTO:-0400
TZNAME:EDT
DTSTART:20260308T070000
END:DAYLIGHT
BEGIN:STANDARD
TZOFFSETFROM:-0400
TZOFFSETTO:-0500
TZNAME:EST
DTSTART:20261101T060000
END:STANDARD
END:VTIMEZONE
BEGIN:VEVENT
DTSTART;TZID=Australia/Melbourne:20250122T090000
DTEND;TZID=Australia/Melbourne:20250122T100000
DTSTAMP:20260419T111346
CREATED:20241220T232948Z
LAST-MODIFIED:20241230T195512Z
UID:2306-1737536400-1737540000@www.csiinc.com
SUMMARY:How to Save Over 100 Hours of Time in 2025
DESCRIPTION:iDMS\, is even more than your best friend. We will show you how to automate and save over 100 hours of time in 2025 in this short 45 minute webinar. \n \nRegister
URL:https://www.csiinc.com/event/webinar-ap-topic-tbd/
LOCATION:Zoom
CATEGORIES:AP Region
END:VEVENT
BEGIN:VEVENT
DTSTART;TZID=America/New_York:20250211T120000
DTEND;TZID=America/New_York:20250211T130000
DTSTAMP:20260419T111346
CREATED:20241220T232316Z
LAST-MODIFIED:20241230T195723Z
UID:2295-1739275200-1739278800@www.csiinc.com
SUMMARY:Integrate iMIS with Best-of-Breed Solutions
DESCRIPTION:Using best-of-breed solutions in all aspects of your organization. We will show you have you can easily integrate iMIS with over 1\,000 different best of breed software products\, without any assistance. \n\n\n\n\n\n \nRegister
URL:https://www.csiinc.com/event/webinar-topic-tbd-2/
LOCATION:Zoom
CATEGORIES:US/CA/UK Region
END:VEVENT
BEGIN:VEVENT
DTSTART;TZID=Australia/Melbourne:20250212T090000
DTEND;TZID=Australia/Melbourne:20250212T100000
DTSTAMP:20260419T111346
CREATED:20241220T233251Z
LAST-MODIFIED:20241230T195820Z
UID:2307-1739350800-1739354400@www.csiinc.com
SUMMARY:Integrate iMIS with Best-of-Breed Solutions
DESCRIPTION:Using best-of-breed solutions in all aspects of your organisation. We will show you have you can easily integrate iMIS with over 1\,000 different best of breed software products\, without any assistance. \n\n\n\n\n\n \nRegister
URL:https://www.csiinc.com/event/webinar-ap-topic-tbd-2/
LOCATION:Zoom
CATEGORIES:AP Region
END:VEVENT
BEGIN:VEVENT
DTSTART;TZID=America/New_York:20250318T120000
DTEND;TZID=America/New_York:20250318T130000
DTSTAMP:20260419T111346
CREATED:20241220T232346Z
LAST-MODIFIED:20241230T195906Z
UID:2296-1742299200-1742302800@www.csiinc.com
SUMMARY:Increase Your Response Rates By 50% in 2025
DESCRIPTION:Boost engagement with your Members & Donors. With the help of iEmail and Text Manager\, your organization can transform your member engagement by seamlessly integrating with iMIS to simplify communication and boost response rates. \n\n\n\n\n\n \nRegister
URL:https://www.csiinc.com/event/webinar-topic-tbd-3/
LOCATION:Zoom
CATEGORIES:US/CA/UK Region
END:VEVENT
BEGIN:VEVENT
DTSTART;TZID=Australia/Melbourne:20250319T090000
DTEND;TZID=Australia/Melbourne:20250319T100000
DTSTAMP:20260419T111346
CREATED:20241220T233316Z
LAST-MODIFIED:20241230T211122Z
UID:2310-1742374800-1742378400@www.csiinc.com
SUMMARY:Increase Your Response Rates By 50% in 2025
DESCRIPTION:Boost engagement with your Members & Donors. With the help of iEmail and Text Manager\, your organisation can transform your member engagement by seamlessly integrating with iMIS to simplify communication and boost response rates. \n\n\n\n\n\n \nRegister
URL:https://www.csiinc.com/event/webinar-ap-topic-tbd-3/
LOCATION:Zoom
CATEGORIES:AP Region
END:VEVENT
BEGIN:VEVENT
DTSTART;TZID=America/New_York:20250415T120000
DTEND;TZID=America/New_York:20250415T130000
DTSTAMP:20260419T111346
CREATED:20241220T232414Z
LAST-MODIFIED:20241230T211203Z
UID:2297-1744718400-1744722000@www.csiinc.com
SUMMARY:Let Your Members Do the Work
DESCRIPTION:Make 2025 more efficient in terms of managing your rosters. Let Roster Manager empower your members to update their own information\, saving your team time and ensuring data accuracy – all while staying in control of the process. \n\n\n\n\n\n \nRegister
URL:https://www.csiinc.com/event/webinar-topic-tbd-4/
LOCATION:Zoom
CATEGORIES:US/CA/UK Region
END:VEVENT
BEGIN:VEVENT
DTSTART;TZID=Australia/Melbourne:20250416T090000
DTEND;TZID=Australia/Melbourne:20250416T100000
DTSTAMP:20260419T111346
CREATED:20241220T233346Z
LAST-MODIFIED:20241230T211223Z
UID:2311-1744794000-1744797600@www.csiinc.com
SUMMARY:Let Your Members Do the Work
DESCRIPTION:Make 2025 more efficient in terms of managing your rosters. Let Roster Manager empower your members to update their own information\, saving your team time and ensuring data accuracy – all while staying in control of the process. \n\n\n\n\n\n \nRegister
URL:https://www.csiinc.com/event/webinar-ap-topic-tbd-4/
LOCATION:Zoom
CATEGORIES:AP Region
END:VEVENT
BEGIN:VEVENT
DTSTART;VALUE=DATE:20250423
DTEND;VALUE=DATE:20250426
DTSTAMP:20260419T111346
CREATED:20241220T235051Z
LAST-MODIFIED:20241220T235101Z
UID:2318-1745366400-1745625599@www.csiinc.com
SUMMARY:2025 iMIS Users Group Spring Conference
DESCRIPTION:Learn from seasoned iMIS association professionals\, authorized iMIS solution providers\, and experienced consultants. These experts bring a wealth of knowledge from the nonprofit sector\, offering interactive sessions filled with practical insights\, real-world problem-solving\, and proven solutions. Comprehensive Sessions: iUG takes pride in delivering sessions that go beyond the basics. Discover how to: Solve challenges with practical “how-to” guidance. Implement best practices for maximizing iMIS functionality. Explore creative\, beyond out-of-the-box solutions. Achieve a measurable return on your iMIS investment. Use iMIS in ways you wouldn’t even think of through case studies from other iMIS user organizations. Stay tuned – more information and programming to come! \n \nLearn More
URL:https://www.csiinc.com/event/2025-imis-users-group-spring-conference/
LOCATION:New Orleans Marriott\, 555 Canal Street\, New Orleans\, LA\, 70130\, United States
CATEGORIES:US/CA/UK Region
END:VEVENT
BEGIN:VEVENT
DTSTART;TZID=America/New_York:20250520T120000
DTEND;TZID=America/New_York:20250520T130000
DTSTAMP:20260419T111346
CREATED:20241220T232443Z
LAST-MODIFIED:20241230T211255Z
UID:2298-1747742400-1747746000@www.csiinc.com
SUMMARY:Enhance Your Use of iMIS with CSI Solutions
DESCRIPTION:Get a sneak peek at CSI’s innovative solutions designed to empower organizations with cutting-edge tools for automating tasks\, improving communication\, and driving data integrity. \n\n\n\n\n\n \nRegister
URL:https://www.csiinc.com/event/webinar-topic-tbd-5/
LOCATION:Zoom
CATEGORIES:US/CA/UK Region
END:VEVENT
BEGIN:VEVENT
DTSTART;TZID=Australia/Melbourne:20250521T090000
DTEND;TZID=Australia/Melbourne:20250521T100000
DTSTAMP:20260419T111346
CREATED:20241220T233421Z
LAST-MODIFIED:20241230T211701Z
UID:2312-1747818000-1747821600@www.csiinc.com
SUMMARY:Enhance Your Use of iMIS with CSI Solutions
DESCRIPTION:Get a sneak peek at CSI’s innovative solutions designed to empower organisations with cutting-edge tools for automating tasks\, improving communication\, and driving data integrity. \n\n\n\n\n\n \nRegister
URL:https://www.csiinc.com/event/webinar-ap-topic-tbd-5/
LOCATION:Zoom
CATEGORIES:AP Region
END:VEVENT
BEGIN:VEVENT
DTSTART;VALUE=DATE:20251027
DTEND;VALUE=DATE:20251030
DTSTAMP:20260419T111346
CREATED:20241220T235344Z
LAST-MODIFIED:20241220T235344Z
UID:2321-1761523200-1761782399@www.csiinc.com
SUMMARY:2025 Annual iMIS Users Group Conference
DESCRIPTION:Learn from seasoned iMIS association professionals\, authorized iMIS solution providers\, and experienced consultants. These experts bring a wealth of knowledge from the nonprofit sector\, offering interactive sessions filled with practical insights\, real-world problem-solving\, and proven solutions. Comprehensive Sessions: iUG takes pride in delivering sessions that go beyond the basics. Discover how to: Solve challenges with practical “how-to” guidance. Implement best practices for maximizing iMIS functionality. Explore creative\, beyond out-of-the-box solutions. Achieve a measurable return on your iMIS investment. Use iMIS in ways you wouldn’t even think of through case studies from other iMIS user organizations. Stay tuned – more information and programming to come! \n \nLearn More
URL:https://www.csiinc.com/event/2025-annual-imis-users-group-conference/
LOCATION:W Nashville\, 300 12th Avenue South\, Nashville\, TN\, 37203\, United States
CATEGORIES:US/CA/UK Region
END:VEVENT
END:VCALENDAR