BEGIN:VCALENDAR
VERSION:2.0
PRODID:-//CSI - ECPv6.15.20//NONSGML v1.0//EN
CALSCALE:GREGORIAN
METHOD:PUBLISH
X-ORIGINAL-URL:https://www.csiinc.com
X-WR-CALDESC:Events for CSI
REFRESH-INTERVAL;VALUE=DURATION:PT1H
X-Robots-Tag:noindex
X-PUBLISHED-TTL:PT1H
BEGIN:VTIMEZONE
TZID:Australia/Melbourne
BEGIN:STANDARD
TZOFFSETFROM:+1100
TZOFFSETTO:+1000
TZNAME:AEST
DTSTART:20230401T160000
END:STANDARD
BEGIN:DAYLIGHT
TZOFFSETFROM:+1000
TZOFFSETTO:+1100
TZNAME:AEDT
DTSTART:20230930T160000
END:DAYLIGHT
BEGIN:STANDARD
TZOFFSETFROM:+1100
TZOFFSETTO:+1000
TZNAME:AEST
DTSTART:20240406T160000
END:STANDARD
BEGIN:DAYLIGHT
TZOFFSETFROM:+1000
TZOFFSETTO:+1100
TZNAME:AEDT
DTSTART:20241005T160000
END:DAYLIGHT
BEGIN:STANDARD
TZOFFSETFROM:+1100
TZOFFSETTO:+1000
TZNAME:AEST
DTSTART:20250405T160000
END:STANDARD
BEGIN:DAYLIGHT
TZOFFSETFROM:+1000
TZOFFSETTO:+1100
TZNAME:AEDT
DTSTART:20251004T160000
END:DAYLIGHT
BEGIN:STANDARD
TZOFFSETFROM:+1100
TZOFFSETTO:+1000
TZNAME:AEST
DTSTART:20260404T160000
END:STANDARD
BEGIN:DAYLIGHT
TZOFFSETFROM:+1000
TZOFFSETTO:+1100
TZNAME:AEDT
DTSTART:20261003T160000
END:DAYLIGHT
END:VTIMEZONE
BEGIN:VTIMEZONE
TZID:America/New_York
BEGIN:DAYLIGHT
TZOFFSETFROM:-0500
TZOFFSETTO:-0400
TZNAME:EDT
DTSTART:20230312T070000
END:DAYLIGHT
BEGIN:STANDARD
TZOFFSETFROM:-0400
TZOFFSETTO:-0500
TZNAME:EST
DTSTART:20231105T060000
END:STANDARD
BEGIN:DAYLIGHT
TZOFFSETFROM:-0500
TZOFFSETTO:-0400
TZNAME:EDT
DTSTART:20240310T070000
END:DAYLIGHT
BEGIN:STANDARD
TZOFFSETFROM:-0400
TZOFFSETTO:-0500
TZNAME:EST
DTSTART:20241103T060000
END:STANDARD
BEGIN:DAYLIGHT
TZOFFSETFROM:-0500
TZOFFSETTO:-0400
TZNAME:EDT
DTSTART:20250309T070000
END:DAYLIGHT
BEGIN:STANDARD
TZOFFSETFROM:-0400
TZOFFSETTO:-0500
TZNAME:EST
DTSTART:20251102T060000
END:STANDARD
BEGIN:DAYLIGHT
TZOFFSETFROM:-0500
TZOFFSETTO:-0400
TZNAME:EDT
DTSTART:20260308T070000
END:DAYLIGHT
BEGIN:STANDARD
TZOFFSETFROM:-0400
TZOFFSETTO:-0500
TZNAME:EST
DTSTART:20261101T060000
END:STANDARD
END:VTIMEZONE
BEGIN:VEVENT
DTSTART;TZID=Australia/Melbourne:20240806T090000
DTEND;TZID=Australia/Melbourne:20240806T100000
DTSTAMP:20260419T094857
CREATED:20240722T173352Z
LAST-MODIFIED:20240722T204427Z
UID:2252-1722934800-1722938400@www.csiinc.com
SUMMARY:Introducing iDMS - iWorkflow!
DESCRIPTION:August 6th at 9am AEST \nWe are thrilled to introduce our latest innovation in data management – the iMIS Data Management Suite iWorkflow module! Designed to streamline your workflows and enhance your data management capabilities\, this powerful module is set to transform the way you handle your organisation’s data. \n \nRegister
URL:https://www.csiinc.com/event/introducing-idms-iworkflow-2/
LOCATION:Zoom
CATEGORIES:AP Region
END:VEVENT
BEGIN:VEVENT
DTSTART;TZID=America/New_York:20240806T120000
DTEND;TZID=America/New_York:20240806T130000
DTSTAMP:20260419T094857
CREATED:20240722T172837Z
LAST-MODIFIED:20240722T173229Z
UID:2251-1722945600-1722949200@www.csiinc.com
SUMMARY:Introducing iDMS - iWorkflow!
DESCRIPTION:August 6th at Noon Eastern \nWe are thrilled to introduce our latest innovation in data management – the iMIS Data Management Suite iWorkflow module! Designed to streamline your workflows and enhance your data management capabilities\, this powerful module is set to transform the way you handle your organization’s data. \n \nRegister
URL:https://www.csiinc.com/event/introducing-idms-iworkflow/
LOCATION:Zoom
CATEGORIES:US/CA/UK Region
END:VEVENT
BEGIN:VEVENT
DTSTART;TZID=America/New_York:20240910T120000
DTEND;TZID=America/New_York:20240910T130000
DTSTAMP:20260419T094857
CREATED:20240722T173826Z
LAST-MODIFIED:20240828T234235Z
UID:2253-1725969600-1725973200@www.csiinc.com
SUMMARY:Streamline Member & Chapter Roster Management with Roster Manager
DESCRIPTION:Join us for a 45-minute webinar as we explore the powerful features of Roster Manager\, the ultimate solution for managing member rosters with ease and efficiency. Whether you have small or large rosters\, Roster Manager simplifies the process\, allowing you to update multiple records simultaneously with just a few clicks! \nBut that’s not all – Roster Manager gives you complete control over who can make these updates. You can empower not only your staff but also extend access to authorized users on the company roster\, ensuring that the right people have the ability to manage rosters. \n \nRegister
URL:https://www.csiinc.com/event/topic-to-be-announced/
LOCATION:Zoom
CATEGORIES:US/CA/UK Region
END:VEVENT
BEGIN:VEVENT
DTSTART;TZID=Australia/Melbourne:20240911T090000
DTEND;TZID=Australia/Melbourne:20240911T100000
DTSTAMP:20260419T094857
CREATED:20240828T234507Z
LAST-MODIFIED:20240828T234507Z
UID:2268-1726045200-1726048800@www.csiinc.com
SUMMARY:Streamline Member & Chapter Roster Management with Roster Manager
DESCRIPTION:Join us for a 45-minute webinar as we explore the powerful features of Roster Manager\, the ultimate solution for managing member rosters with ease and efficiency. Whether you have small or large rosters\, Roster Manager simplifies the process\, allowing you to update multiple records simultaneously with just a few clicks! \nBut that’s not all – Roster Manager gives you complete control over who can make these updates. You can empower not only your staff but also extend access to authorised users on the company roster\, ensuring that the right people have the ability to manage rosters. \n \nRegister
URL:https://www.csiinc.com/event/streamline-member-chapter-roster-management-with-roster-manager/
LOCATION:Zoom
CATEGORIES:AP Region
END:VEVENT
BEGIN:VEVENT
DTSTART;VALUE=DATE:20240916
DTEND;VALUE=DATE:20240919
DTSTAMP:20260419T094857
CREATED:20240417T172301Z
LAST-MODIFIED:20240417T172301Z
UID:2217-1726444800-1726703999@www.csiinc.com
SUMMARY:2024 iMIS Users Group Conference
DESCRIPTION:Spark innovation at the 2024 Annual iMIS Users Conference\, where you’ll have opportunities to learn new iMIS skills\, make new connections with other iMIS users\, and participate in education designed by iMIS users for iMIS users. \nJoin us at this iMIS event September 16-18 in Arlington\, VA. This premier event enables you to discover innovative ways to streamline your association and advance your career through 3 days of immersive training\, powerful keynotes\, and connecting with your peers. \nWe are also teaming up with Advanced Solutions International (iMIS)! The 2024 USA iNNOVATIONS conference follows ours at the same location on September 18-19\, offering you an even more unique iMIS experience. \n \nLearn More
URL:https://www.csiinc.com/event/2024-imis-users-group-conference/
LOCATION:Crystal Gateway Marriott\, 1700 Richmond Highway\, Arlington\, VA\, 22202\, United States
CATEGORIES:US/CA/UK Region
END:VEVENT
BEGIN:VEVENT
DTSTART;TZID=America/New_York:20241008T120000
DTEND;TZID=America/New_York:20241008T130000
DTSTAMP:20260419T094857
CREATED:20240722T173858Z
LAST-MODIFIED:20240828T234624Z
UID:2254-1728388800-1728392400@www.csiinc.com
SUMMARY:Discover why over 500 iMIS customers use the iMIS Data Management Suite (iDMS)
DESCRIPTION:Want to know why over 500 of your peers have licensed the iMIS Data Management Suite? During this short 45-minute webinar\, we will show you how these organizations are using iDMS for everything iMIS. \nFrom importing everything to automating everything\, in the words of our customers “I can’t live without iDMS” \nCome see why! \n \nRegister
URL:https://www.csiinc.com/event/topic-to-be-announced-2/
LOCATION:Zoom
CATEGORIES:US/CA/UK Region
END:VEVENT
BEGIN:VEVENT
DTSTART;TZID=Australia/Melbourne:20241009T090000
DTEND;TZID=Australia/Melbourne:20241009T100000
DTSTAMP:20260419T094857
CREATED:20240828T234749Z
LAST-MODIFIED:20240828T234749Z
UID:2270-1728464400-1728468000@www.csiinc.com
SUMMARY:Discover why over 500 iMIS customers use the iMIS Data Management Suite (iDMS)
DESCRIPTION:Want to know why over 500 of your peers have licensed the iMIS Data Management Suite? During this short 45-minute webinar\, we will show you how these organisations are using iDMS for everything iMIS. \nFrom importing everything to automating everything\, in the words of our customers “I can’t live without iDMS” \nCome see why! \n \nRegister
URL:https://www.csiinc.com/event/discover-why-over-500-imis-customers-use-the-imis-data-management-suite-idms/
LOCATION:Zoom
CATEGORIES:AP Region
END:VEVENT
BEGIN:VEVENT
DTSTART;TZID=America/New_York:20241112T120000
DTEND;TZID=America/New_York:20241112T130000
DTSTAMP:20260419T094857
CREATED:20240722T173943Z
LAST-MODIFIED:20240828T234856Z
UID:2255-1731412800-1731416400@www.csiinc.com
SUMMARY:Enhance Member Engagement with Outlook Integration and Texts
DESCRIPTION:Imagine a world where iMIS and Outlook work hand in hand – no more toggling between platforms or losing track of important conversations. With iEmail Cloud\, that integration is a reality. Effortlessly save emails directly to iMIS\, create Committee Teams invites\, and jump from Outlook directly to the member’s record – these are just some of the things you can do with iEmail Cloud. \nAnd…as member demographics evolve\, so must your communication strategies. Texting has become the key to reaching your members and donors – instantly and effectively. With Text Manager\, you can cut through the noise and capture your members and donors’ attention right away\, ensuring they stay engaged with your organization. \nIf you use Outlook or want to engage your members through texting\, do not miss this short 45-minute webinar. \n \nRegister
URL:https://www.csiinc.com/event/topic-to-be-announced-3/
LOCATION:Zoom
CATEGORIES:US/CA/UK Region
END:VEVENT
BEGIN:VEVENT
DTSTART;TZID=Australia/Melbourne:20241113T090000
DTEND;TZID=Australia/Melbourne:20241113T100000
DTSTAMP:20260419T094857
CREATED:20240828T235013Z
LAST-MODIFIED:20240828T235013Z
UID:2272-1731488400-1731492000@www.csiinc.com
SUMMARY:Enhance Member Engagement with Outlook Integration and Texts
DESCRIPTION:Imagine a world where iMIS and Outlook work hand in hand – no more toggling between platforms or losing track of important conversations. With iEmail Cloud\, that integration is a reality. Effortlessly save emails directly to iMIS\, create Committee Teams invites\, and jump from Outlook directly to the member’s record – these are just some of the things you can do with iEmail Cloud. \nAnd…as member demographics evolve\, so must your communication strategies. Texting has become the key to reaching your members and donors – instantly and effectively. With Text Manager\, you can cut through the noise and capture your members and donors’ attention right away\, ensuring they stay engaged with your organisation. \nIf you use Outlook or want to engage your members through texting\, do not miss this short 45-minute webinar. \n \nRegister
URL:https://www.csiinc.com/event/enhance-member-engagement-with-outlook-integration-and-texts/
LOCATION:Zoom
CATEGORIES:AP Region
END:VEVENT
BEGIN:VEVENT
DTSTART;TZID=America/New_York:20241210T120000
DTEND;TZID=America/New_York:20241210T130000
DTSTAMP:20260419T094857
CREATED:20240722T174004Z
LAST-MODIFIED:20240828T235131Z
UID:2256-1733832000-1733835600@www.csiinc.com
SUMMARY:Discover Why Over 800 iMIS Users Trust CSI’s Solutions to Maximize Their iMIS Investment
DESCRIPTION:Even if you are one of the 800 customers using one of our products\, we are positive you will learn something new in this 60-minute overview of the CSI Suite of award-winning products. We will showcase: \n• iDMS’s robust capabilities in data management\, making it the most powerful product in the entire iMIS Community. \n• iEmail Cloud’s seamless integration between Outlook and iMIS\, streamlining your communication and making it easier to manage member interactions. \n• The iMIS Power Automate Connector\, connecting iMIS with over 1\,000 3rd party applications. \n• Text Manager\, enhancing member engagement by delivering timely messages directly to your members and donors. \n• Roster Manager\, simplifying roster management for both your members and your co-workers. \n \nRegister
URL:https://www.csiinc.com/event/topic-to-be-announced-4/
LOCATION:Zoom
CATEGORIES:US/CA/UK Region
END:VEVENT
BEGIN:VEVENT
DTSTART;TZID=Australia/Melbourne:20241211T090000
DTEND;TZID=Australia/Melbourne:20241211T100000
DTSTAMP:20260419T094857
CREATED:20240828T235256Z
LAST-MODIFIED:20240828T235256Z
UID:2273-1733907600-1733911200@www.csiinc.com
SUMMARY:Discover Why Over 800 iMIS Users Trust CSI’s Solutions to Maximize Their iMIS Investment
DESCRIPTION:Even if you are one of the 800 customers using one of our products\, we are positive you will learn something new in this 60-minute overview of the CSI Suite of award-winning products. We will showcase: \n• iDMS’s robust capabilities in data management\, making it the most powerful product in the entire iMIS Community. \n• iEmail Cloud’s seamless integration between Outlook and iMIS\, streamlining your communication and making it easier to manage member interactions. \n• The iMIS Power Automate Connector\, connecting iMIS with over 1\,000 3rd party applications. \n• Text Manager\, enhancing member engagement by delivering timely messages directly to your members and donors. \n• Roster Manager\, simplifying roster management for both your members and your co-workers. \n \nRegister
URL:https://www.csiinc.com/event/discover-why-over-800-imis-users-trust-csis-solutions-to-maximize-their-imis-investment/
LOCATION:Zoom
CATEGORIES:AP Region
END:VEVENT
BEGIN:VEVENT
DTSTART;TZID=America/New_York:20250121T120000
DTEND;TZID=America/New_York:20250121T130000
DTSTAMP:20260419T094857
CREATED:20241220T232206Z
LAST-MODIFIED:20241230T195419Z
UID:2294-1737460800-1737464400@www.csiinc.com
SUMMARY:How to Save Over 100 Hours of Time in 2025
DESCRIPTION:iDMS\, is even more than your best friend. We will show you how to automate and save over 100 hours of time in 2025 in this short 45 minute webinar. \n \nRegister
URL:https://www.csiinc.com/event/webinar-topic-tbd/
LOCATION:Zoom
CATEGORIES:US/CA/UK Region
END:VEVENT
BEGIN:VEVENT
DTSTART;TZID=Australia/Melbourne:20250122T090000
DTEND;TZID=Australia/Melbourne:20250122T100000
DTSTAMP:20260419T094857
CREATED:20241220T232948Z
LAST-MODIFIED:20241230T195512Z
UID:2306-1737536400-1737540000@www.csiinc.com
SUMMARY:How to Save Over 100 Hours of Time in 2025
DESCRIPTION:iDMS\, is even more than your best friend. We will show you how to automate and save over 100 hours of time in 2025 in this short 45 minute webinar. \n \nRegister
URL:https://www.csiinc.com/event/webinar-ap-topic-tbd/
LOCATION:Zoom
CATEGORIES:AP Region
END:VEVENT
BEGIN:VEVENT
DTSTART;TZID=America/New_York:20250211T120000
DTEND;TZID=America/New_York:20250211T130000
DTSTAMP:20260419T094857
CREATED:20241220T232316Z
LAST-MODIFIED:20241230T195723Z
UID:2295-1739275200-1739278800@www.csiinc.com
SUMMARY:Integrate iMIS with Best-of-Breed Solutions
DESCRIPTION:Using best-of-breed solutions in all aspects of your organization. We will show you have you can easily integrate iMIS with over 1\,000 different best of breed software products\, without any assistance. \n\n\n\n\n\n \nRegister
URL:https://www.csiinc.com/event/webinar-topic-tbd-2/
LOCATION:Zoom
CATEGORIES:US/CA/UK Region
END:VEVENT
BEGIN:VEVENT
DTSTART;TZID=Australia/Melbourne:20250212T090000
DTEND;TZID=Australia/Melbourne:20250212T100000
DTSTAMP:20260419T094857
CREATED:20241220T233251Z
LAST-MODIFIED:20241230T195820Z
UID:2307-1739350800-1739354400@www.csiinc.com
SUMMARY:Integrate iMIS with Best-of-Breed Solutions
DESCRIPTION:Using best-of-breed solutions in all aspects of your organisation. We will show you have you can easily integrate iMIS with over 1\,000 different best of breed software products\, without any assistance. \n\n\n\n\n\n \nRegister
URL:https://www.csiinc.com/event/webinar-ap-topic-tbd-2/
LOCATION:Zoom
CATEGORIES:AP Region
END:VEVENT
BEGIN:VEVENT
DTSTART;TZID=America/New_York:20250318T120000
DTEND;TZID=America/New_York:20250318T130000
DTSTAMP:20260419T094857
CREATED:20241220T232346Z
LAST-MODIFIED:20241230T195906Z
UID:2296-1742299200-1742302800@www.csiinc.com
SUMMARY:Increase Your Response Rates By 50% in 2025
DESCRIPTION:Boost engagement with your Members & Donors. With the help of iEmail and Text Manager\, your organization can transform your member engagement by seamlessly integrating with iMIS to simplify communication and boost response rates. \n\n\n\n\n\n \nRegister
URL:https://www.csiinc.com/event/webinar-topic-tbd-3/
LOCATION:Zoom
CATEGORIES:US/CA/UK Region
END:VEVENT
BEGIN:VEVENT
DTSTART;TZID=Australia/Melbourne:20250319T090000
DTEND;TZID=Australia/Melbourne:20250319T100000
DTSTAMP:20260419T094857
CREATED:20241220T233316Z
LAST-MODIFIED:20241230T211122Z
UID:2310-1742374800-1742378400@www.csiinc.com
SUMMARY:Increase Your Response Rates By 50% in 2025
DESCRIPTION:Boost engagement with your Members & Donors. With the help of iEmail and Text Manager\, your organisation can transform your member engagement by seamlessly integrating with iMIS to simplify communication and boost response rates. \n\n\n\n\n\n \nRegister
URL:https://www.csiinc.com/event/webinar-ap-topic-tbd-3/
LOCATION:Zoom
CATEGORIES:AP Region
END:VEVENT
BEGIN:VEVENT
DTSTART;TZID=America/New_York:20250415T120000
DTEND;TZID=America/New_York:20250415T130000
DTSTAMP:20260419T094857
CREATED:20241220T232414Z
LAST-MODIFIED:20241230T211203Z
UID:2297-1744718400-1744722000@www.csiinc.com
SUMMARY:Let Your Members Do the Work
DESCRIPTION:Make 2025 more efficient in terms of managing your rosters. Let Roster Manager empower your members to update their own information\, saving your team time and ensuring data accuracy – all while staying in control of the process. \n\n\n\n\n\n \nRegister
URL:https://www.csiinc.com/event/webinar-topic-tbd-4/
LOCATION:Zoom
CATEGORIES:US/CA/UK Region
END:VEVENT
BEGIN:VEVENT
DTSTART;TZID=Australia/Melbourne:20250416T090000
DTEND;TZID=Australia/Melbourne:20250416T100000
DTSTAMP:20260419T094857
CREATED:20241220T233346Z
LAST-MODIFIED:20241230T211223Z
UID:2311-1744794000-1744797600@www.csiinc.com
SUMMARY:Let Your Members Do the Work
DESCRIPTION:Make 2025 more efficient in terms of managing your rosters. Let Roster Manager empower your members to update their own information\, saving your team time and ensuring data accuracy – all while staying in control of the process. \n\n\n\n\n\n \nRegister
URL:https://www.csiinc.com/event/webinar-ap-topic-tbd-4/
LOCATION:Zoom
CATEGORIES:AP Region
END:VEVENT
BEGIN:VEVENT
DTSTART;VALUE=DATE:20250423
DTEND;VALUE=DATE:20250426
DTSTAMP:20260419T094857
CREATED:20241220T235051Z
LAST-MODIFIED:20241220T235101Z
UID:2318-1745366400-1745625599@www.csiinc.com
SUMMARY:2025 iMIS Users Group Spring Conference
DESCRIPTION:Learn from seasoned iMIS association professionals\, authorized iMIS solution providers\, and experienced consultants. These experts bring a wealth of knowledge from the nonprofit sector\, offering interactive sessions filled with practical insights\, real-world problem-solving\, and proven solutions. Comprehensive Sessions: iUG takes pride in delivering sessions that go beyond the basics. Discover how to: Solve challenges with practical “how-to” guidance. Implement best practices for maximizing iMIS functionality. Explore creative\, beyond out-of-the-box solutions. Achieve a measurable return on your iMIS investment. Use iMIS in ways you wouldn’t even think of through case studies from other iMIS user organizations. Stay tuned – more information and programming to come! \n \nLearn More
URL:https://www.csiinc.com/event/2025-imis-users-group-spring-conference/
LOCATION:New Orleans Marriott\, 555 Canal Street\, New Orleans\, LA\, 70130\, United States
CATEGORIES:US/CA/UK Region
END:VEVENT
BEGIN:VEVENT
DTSTART;TZID=America/New_York:20250520T120000
DTEND;TZID=America/New_York:20250520T130000
DTSTAMP:20260419T094857
CREATED:20241220T232443Z
LAST-MODIFIED:20241230T211255Z
UID:2298-1747742400-1747746000@www.csiinc.com
SUMMARY:Enhance Your Use of iMIS with CSI Solutions
DESCRIPTION:Get a sneak peek at CSI’s innovative solutions designed to empower organizations with cutting-edge tools for automating tasks\, improving communication\, and driving data integrity. \n\n\n\n\n\n \nRegister
URL:https://www.csiinc.com/event/webinar-topic-tbd-5/
LOCATION:Zoom
CATEGORIES:US/CA/UK Region
END:VEVENT
BEGIN:VEVENT
DTSTART;TZID=Australia/Melbourne:20250521T090000
DTEND;TZID=Australia/Melbourne:20250521T100000
DTSTAMP:20260419T094857
CREATED:20241220T233421Z
LAST-MODIFIED:20241230T211701Z
UID:2312-1747818000-1747821600@www.csiinc.com
SUMMARY:Enhance Your Use of iMIS with CSI Solutions
DESCRIPTION:Get a sneak peek at CSI’s innovative solutions designed to empower organisations with cutting-edge tools for automating tasks\, improving communication\, and driving data integrity. \n\n\n\n\n\n \nRegister
URL:https://www.csiinc.com/event/webinar-ap-topic-tbd-5/
LOCATION:Zoom
CATEGORIES:AP Region
END:VEVENT
BEGIN:VEVENT
DTSTART;VALUE=DATE:20251027
DTEND;VALUE=DATE:20251030
DTSTAMP:20260419T094857
CREATED:20241220T235344Z
LAST-MODIFIED:20241220T235344Z
UID:2321-1761523200-1761782399@www.csiinc.com
SUMMARY:2025 Annual iMIS Users Group Conference
DESCRIPTION:Learn from seasoned iMIS association professionals\, authorized iMIS solution providers\, and experienced consultants. These experts bring a wealth of knowledge from the nonprofit sector\, offering interactive sessions filled with practical insights\, real-world problem-solving\, and proven solutions. Comprehensive Sessions: iUG takes pride in delivering sessions that go beyond the basics. Discover how to: Solve challenges with practical “how-to” guidance. Implement best practices for maximizing iMIS functionality. Explore creative\, beyond out-of-the-box solutions. Achieve a measurable return on your iMIS investment. Use iMIS in ways you wouldn’t even think of through case studies from other iMIS user organizations. Stay tuned – more information and programming to come! \n \nLearn More
URL:https://www.csiinc.com/event/2025-annual-imis-users-group-conference/
LOCATION:W Nashville\, 300 12th Avenue South\, Nashville\, TN\, 37203\, United States
CATEGORIES:US/CA/UK Region
END:VEVENT
END:VCALENDAR